BEGIN:VCALENDAR
VERSION:2.0
PRODID:-//Tintamotora - ECPv5.10.0//NONSGML v1.0//EN
CALSCALE:GREGORIAN
METHOD:PUBLISH
X-WR-CALNAME:Tintamotora
X-ORIGINAL-URL:https://www.tintamotora.com
X-WR-CALDESC:Esdeveniments per Tintamotora
BEGIN:VTIMEZONE
TZID:Europe/Madrid
BEGIN:DAYLIGHT
TZOFFSETFROM:+0100
TZOFFSETTO:+0200
TZNAME:CEST
DTSTART:20220327T010000
END:DAYLIGHT
BEGIN:STANDARD
TZOFFSETFROM:+0200
TZOFFSETTO:+0100
TZNAME:CET
DTSTART:20221030T010000
END:STANDARD
END:VTIMEZONE
BEGIN:VEVENT
DTSTART;TZID=Europe/Madrid:20220616T183000
DTEND;TZID=Europe/Madrid:20220616T203000
DTSTAMP:20260424T013005
CREATED:20220615T162340Z
LAST-MODIFIED:20220615T164202Z
UID:1122-1655404200-1655411400@www.tintamotora.com
SUMMARY:DONES i MITOCONDRIS
DESCRIPTION:Cooperació o extinció\, aquesta és la cruïlla on ens trobem. Sabem que l’únic camí és el decreixement i l’harmonia amb el medi\, i els planteja- ments cooperatius i edosimbiòtics ens marquen les senyals del camí per on discorre.\nEl llaç entre Biologia i Antropologia mostra el teixit vital i social que ens sustenta com a espècie. La matrilinealitat ha estat l’arquitectura social en les societats prepatriarcals igualitàries i tanmateix és la ruta dels gens mitocondrials que ens acompanyen des del principi dels temps\, en una línia invisible de mares\, àvies\, besàvies… La teoria en- dosimbiòtica explica l’evolució de la vida cel·lular en termes coope- ratius en comparació amb l’evolució darwiniana competitiva clàssica.\nUn altre model societari no és que sigui possible\, és inevitable. Per superar l’atzucac on ens hem enfangat en un miratge il·lusori\, com a infants malcriats\, ens cal copiar de la vida i girar de manera radical el rostre vers altres maneres d’entendre-la i altres paradigmes.\n‘DONES i MITOCONDRIS: la força del llinatge matern’ ens dóna pistes.
URL:https://www.tintamotora.com/esdeveniment/dones-i-mitocondris-2/
LOCATION:Biblioteca Pública Arús\, Passeig de Sant Joan\, Barcelona\, Barcelona\, Espanya
CATEGORIES:Presentacions de llibres
ATTACH;FMTTYPE=image/jpeg:https://www.tintamotora.com/wp-content/uploads/2022/06/DONES-I-MITOCONDRIS.jpg
END:VEVENT
BEGIN:VEVENT
DTSTART;VALUE=DATE:20221015
DTEND;VALUE=DATE:20221016
DTSTAMP:20260424T013005
CREATED:20221013T153313Z
LAST-MODIFIED:20221013T153313Z
UID:1189-1665792000-1665878399@www.tintamotora.com
SUMMARY:ALTRES LLETRES
DESCRIPTION:
URL:https://www.tintamotora.com/esdeveniment/altres-lletres/
LOCATION:Plaça dels Alls\, Plaça dels Alls\, Valls\, Tarragona\, Espanya
ATTACH;FMTTYPE=image/jpeg:https://www.tintamotora.com/wp-content/uploads/2022/10/ALTRES-LLETRES-A3.jpg
END:VEVENT
END:VCALENDAR