BEGIN:VCALENDAR
VERSION:2.0
PRODID:-//Tintamotora - ECPv5.10.0//NONSGML v1.0//EN
CALSCALE:GREGORIAN
METHOD:PUBLISH
X-WR-CALNAME:Tintamotora
X-ORIGINAL-URL:https://www.tintamotora.com
X-WR-CALDESC:Esdeveniments per Tintamotora
BEGIN:VTIMEZONE
TZID:Europe/Madrid
BEGIN:DAYLIGHT
TZOFFSETFROM:+0100
TZOFFSETTO:+0200
TZNAME:CEST
DTSTART:20220327T010000
END:DAYLIGHT
BEGIN:STANDARD
TZOFFSETFROM:+0200
TZOFFSETTO:+0100
TZNAME:CET
DTSTART:20221030T010000
END:STANDARD
END:VTIMEZONE
BEGIN:VEVENT
DTSTART;TZID=Europe/Madrid:20220426T190000
DTEND;TZID=Europe/Madrid:20220426T203000
DTSTAMP:20260424T030256
CREATED:20220425T180842Z
LAST-MODIFIED:20220425T181206Z
UID:1099-1650999600-1651005000@www.tintamotora.com
SUMMARY:DONES i MITOCONDRIS
DESCRIPTION:Un altre model societari no és que sigui possible\, és inevitable.
URL:https://www.tintamotora.com/esdeveniment/dones-i-mitocondris/
LOCATION:Casal Transformadors\, Ausiàs Marc\, 60\, BARCELONA\, 08010\, Espanya
CATEGORIES:Presentacions de llibres
ATTACH;FMTTYPE=image/jpeg:https://www.tintamotora.com/wp-content/uploads/2022/04/IMG-20220420-WA0002.jpg
END:VEVENT
END:VCALENDAR