BEGIN:VCALENDAR
VERSION:2.0
PRODID:-//Tintamotora - ECPv5.10.0//NONSGML v1.0//EN
CALSCALE:GREGORIAN
METHOD:PUBLISH
X-WR-CALNAME:Tintamotora
X-ORIGINAL-URL:https://www.tintamotora.com
X-WR-CALDESC:Esdeveniments per Tintamotora
BEGIN:VTIMEZONE
TZID:Europe/Madrid
BEGIN:DAYLIGHT
TZOFFSETFROM:+0100
TZOFFSETTO:+0200
TZNAME:CEST
DTSTART:20210328T010000
END:DAYLIGHT
BEGIN:STANDARD
TZOFFSETFROM:+0200
TZOFFSETTO:+0100
TZNAME:CET
DTSTART:20211031T010000
END:STANDARD
END:VTIMEZONE
BEGIN:VEVENT
DTSTART;TZID=Europe/Madrid:20210414T183000
DTEND;TZID=Europe/Madrid:20210414T193000
DTSTAMP:20260425T014217
CREATED:20210412T183416Z
LAST-MODIFIED:20210412T183416Z
UID:798-1618425000-1618428600@www.tintamotora.com
SUMMARY:Presentació de EL BRAM DEL DRAC
DESCRIPTION:
URL:https://www.tintamotora.com/esdeveniment/presentacio-de-el-bram-del-drac/
LOCATION:Espai Llavors\, Llobregat\, 66\, L´Hospitalet de Llobregat\, Barcelona\, 08904\, Espanya
END:VEVENT
END:VCALENDAR